BEGIN:VCALENDAR
VERSION:2.0
PRODID:-//Ferdinand Porsche Gymnasium Zuffenhausen - ECPv6.15.20//NONSGML v1.0//EN
CALSCALE:GREGORIAN
METHOD:PUBLISH
X-ORIGINAL-URL:https://ferdinand-porsche-gymnasium.de
X-WR-CALDESC:Veranstaltungen für Ferdinand Porsche Gymnasium Zuffenhausen
REFRESH-INTERVAL;VALUE=DURATION:PT1H
X-Robots-Tag:noindex
X-PUBLISHED-TTL:PT1H
BEGIN:VTIMEZONE
TZID:Europe/Berlin
BEGIN:DAYLIGHT
TZOFFSETFROM:+0100
TZOFFSETTO:+0200
TZNAME:CEST
DTSTART:20240331T010000
END:DAYLIGHT
BEGIN:STANDARD
TZOFFSETFROM:+0200
TZOFFSETTO:+0100
TZNAME:CET
DTSTART:20241027T010000
END:STANDARD
BEGIN:DAYLIGHT
TZOFFSETFROM:+0100
TZOFFSETTO:+0200
TZNAME:CEST
DTSTART:20250330T010000
END:DAYLIGHT
BEGIN:STANDARD
TZOFFSETFROM:+0200
TZOFFSETTO:+0100
TZNAME:CET
DTSTART:20251026T010000
END:STANDARD
BEGIN:DAYLIGHT
TZOFFSETFROM:+0100
TZOFFSETTO:+0200
TZNAME:CEST
DTSTART:20260329T010000
END:DAYLIGHT
BEGIN:STANDARD
TZOFFSETFROM:+0200
TZOFFSETTO:+0100
TZNAME:CET
DTSTART:20261025T010000
END:STANDARD
END:VTIMEZONE
BEGIN:VEVENT
DTSTART;TZID=Europe/Berlin:20251007T180000
DTEND;TZID=Europe/Berlin:20251007T210000
DTSTAMP:20260419T162010
CREATED:20250909T073602Z
LAST-MODIFIED:20250909T073602Z
UID:15311-1759860000-1759870800@ferdinand-porsche-gymnasium.de
SUMMARY:Gesamtelternbeirat
DESCRIPTION:
URL:https://ferdinand-porsche-gymnasium.de/event/gesamtelternbeirat/
END:VEVENT
BEGIN:VEVENT
DTSTART;TZID=Europe/Berlin:20251008T080000
DTEND;TZID=Europe/Berlin:20251008T170000
DTSTAMP:20260419T162010
CREATED:20250829T080725Z
LAST-MODIFIED:20250829T080725Z
UID:15173-1759910400-1759942800@ferdinand-porsche-gymnasium.de
SUMMARY:Ausflugstag
DESCRIPTION:
URL:https://ferdinand-porsche-gymnasium.de/event/ausflugstag-2/
END:VEVENT
BEGIN:VEVENT
DTSTART;TZID=Europe/Berlin:20251010T080000
DTEND;TZID=Europe/Berlin:20251010T093000
DTSTAMP:20260419T162010
CREATED:20250829T080834Z
LAST-MODIFIED:20250829T080834Z
UID:15175-1760083200-1760088600@ferdinand-porsche-gymnasium.de
SUMMARY:SMV-Tag: Wahl von Klassensprecher*innen und Verbindungslehrer*innen
DESCRIPTION:
URL:https://ferdinand-porsche-gymnasium.de/event/smv-tag-wahl-von-klassensprecherinnen-und-verbindungslehrerinnen/
END:VEVENT
BEGIN:VEVENT
DTSTART;TZID=Europe/Berlin:20251016T080000
DTEND;TZID=Europe/Berlin:20251016T130000
DTSTAMP:20260419T162010
CREATED:20250829T081355Z
LAST-MODIFIED:20250829T081355Z
UID:15179-1760601600-1760619600@ferdinand-porsche-gymnasium.de
SUMMARY:Aktionstag "Schütze dein Bestes"
DESCRIPTION:
URL:https://ferdinand-porsche-gymnasium.de/event/aktionstag-schuetze-dein-bestes/
END:VEVENT
BEGIN:VEVENT
DTSTART;TZID=Europe/Berlin:20251021T080000
DTEND;TZID=Europe/Berlin:20251024T170000
DTSTAMP:20260419T162010
CREATED:20250829T081445Z
LAST-MODIFIED:20250829T081445Z
UID:15181-1761033600-1761325200@ferdinand-porsche-gymnasium.de
SUMMARY:Schüleraustausch Leipzig (einzelne SuS Kl. 6/7)
DESCRIPTION:
URL:https://ferdinand-porsche-gymnasium.de/event/schueleraustausch-leipzig-einzelne-sus-kl-6-7/
END:VEVENT
BEGIN:VEVENT
DTSTART;TZID=Europe/Berlin:20251022T133000
DTEND;TZID=Europe/Berlin:20251022T170000
DTSTAMP:20260419T162010
CREATED:20250829T081530Z
LAST-MODIFIED:20250829T081530Z
UID:15183-1761139800-1761152400@ferdinand-porsche-gymnasium.de
SUMMARY:Gesamtlehrerkonferenz 1
DESCRIPTION:
URL:https://ferdinand-porsche-gymnasium.de/event/gesamtlehrerkonferenz-1/
END:VEVENT
BEGIN:VEVENT
DTSTART;TZID=Europe/Berlin:20251023T170000
DTEND;TZID=Europe/Berlin:20251023T210000
DTSTAMP:20260419T162010
CREATED:20250829T081638Z
LAST-MODIFIED:20250829T081638Z
UID:15185-1761238800-1761253200@ferdinand-porsche-gymnasium.de
SUMMARY:Halloween-Party Klasse 5 - 7
DESCRIPTION:
URL:https://ferdinand-porsche-gymnasium.de/event/halloween-party-klasse-5-7/
END:VEVENT
BEGIN:VEVENT
DTSTART;TZID=Europe/Berlin:20251027T080000
DTEND;TZID=Europe/Berlin:20251102T170000
DTSTAMP:20260419T162010
CREATED:20250829T081718Z
LAST-MODIFIED:20250829T081718Z
UID:15187-1761552000-1762102800@ferdinand-porsche-gymnasium.de
SUMMARY:Herbstferien
DESCRIPTION:
URL:https://ferdinand-porsche-gymnasium.de/event/herbstferien-5/
END:VEVENT
END:VCALENDAR