BEGIN:VCALENDAR
VERSION:2.0
PRODID:-//Ferdinand Porsche Gymnasium Zuffenhausen - ECPv6.15.20//NONSGML v1.0//EN
CALSCALE:GREGORIAN
METHOD:PUBLISH
X-ORIGINAL-URL:https://ferdinand-porsche-gymnasium.de
X-WR-CALDESC:Veranstaltungen für Ferdinand Porsche Gymnasium Zuffenhausen
REFRESH-INTERVAL;VALUE=DURATION:PT1H
X-Robots-Tag:noindex
X-PUBLISHED-TTL:PT1H
BEGIN:VTIMEZONE
TZID:Europe/Berlin
BEGIN:DAYLIGHT
TZOFFSETFROM:+0100
TZOFFSETTO:+0200
TZNAME:CEST
DTSTART:20210328T010000
END:DAYLIGHT
BEGIN:STANDARD
TZOFFSETFROM:+0200
TZOFFSETTO:+0100
TZNAME:CET
DTSTART:20211031T010000
END:STANDARD
BEGIN:DAYLIGHT
TZOFFSETFROM:+0100
TZOFFSETTO:+0200
TZNAME:CEST
DTSTART:20220327T010000
END:DAYLIGHT
BEGIN:STANDARD
TZOFFSETFROM:+0200
TZOFFSETTO:+0100
TZNAME:CET
DTSTART:20221030T010000
END:STANDARD
BEGIN:DAYLIGHT
TZOFFSETFROM:+0100
TZOFFSETTO:+0200
TZNAME:CEST
DTSTART:20230326T010000
END:DAYLIGHT
BEGIN:STANDARD
TZOFFSETFROM:+0200
TZOFFSETTO:+0100
TZNAME:CET
DTSTART:20231029T010000
END:STANDARD
END:VTIMEZONE
BEGIN:VEVENT
DTSTART;TZID=Europe/Berlin:20220923T080000
DTEND;TZID=Europe/Berlin:20220923T083000
DTSTAMP:20260419T162126
CREATED:20220921T145252Z
LAST-MODIFIED:20220921T145252Z
UID:7745-1663920000-1663921800@ferdinand-porsche-gymnasium.de
SUMMARY:Gottesdienst zum Schuljahresanfang
DESCRIPTION:
URL:https://ferdinand-porsche-gymnasium.de/event/gottesdienst-zum-schuljahresanfang/
END:VEVENT
BEGIN:VEVENT
DTSTART;TZID=Europe/Berlin:20220926T080000
DTEND;TZID=Europe/Berlin:20220930T170000
DTSTAMP:20260419T162126
CREATED:20220921T145354Z
LAST-MODIFIED:20220921T145354Z
UID:7748-1664179200-1664557200@ferdinand-porsche-gymnasium.de
SUMMARY:Schullandheim Klasse 6a und 6c
DESCRIPTION:
URL:https://ferdinand-porsche-gymnasium.de/event/schullandheim-klasse-6a-und-6c/
END:VEVENT
BEGIN:VEVENT
DTSTART;TZID=Europe/Berlin:20220927T190000
DTEND;TZID=Europe/Berlin:20220927T210000
DTSTAMP:20260419T162126
CREATED:20220921T145536Z
LAST-MODIFIED:20220921T145536Z
UID:7751-1664305200-1664312400@ferdinand-porsche-gymnasium.de
SUMMARY:Elternabende der 5. Klassen und der Jahrgangsstufe 1
DESCRIPTION:Genaue Zeiten der einzelnen Klassen (s. Briefe an die Erziehungsberechtigten) beachten.
URL:https://ferdinand-porsche-gymnasium.de/event/elternabende-der-5-klassen-und-der-jahrgangsstufe-1/
END:VEVENT
BEGIN:VEVENT
DTSTART;TZID=Europe/Berlin:20220928T080000
DTEND;TZID=Europe/Berlin:20220928T180000
DTSTAMP:20260419T162126
CREATED:20220921T145620Z
LAST-MODIFIED:20220921T145620Z
UID:7754-1664352000-1664388000@ferdinand-porsche-gymnasium.de
SUMMARY:J2: Exkursion nach Dachau
DESCRIPTION:
URL:https://ferdinand-porsche-gymnasium.de/event/j2-exkursion-nach-dachau/
END:VEVENT
BEGIN:VEVENT
DTSTART;TZID=Europe/Berlin:20220930T080000
DTEND;TZID=Europe/Berlin:20220930T130000
DTSTAMP:20260419T162126
CREATED:20220921T145724Z
LAST-MODIFIED:20220921T150056Z
UID:7757-1664524800-1664542800@ferdinand-porsche-gymnasium.de
SUMMARY:SMV-Tag
DESCRIPTION:Klassensprecherwahl\, Schülersprecherwahl\nInformationen über das AG-Angebot am FPGZ
URL:https://ferdinand-porsche-gymnasium.de/event/smv-tag-2/
END:VEVENT
END:VCALENDAR